BEGIN:VCALENDAR
VERSION:2.0
PRODID:-// - ECPv6.15.11//NONSGML v1.0//EN
CALSCALE:GREGORIAN
METHOD:PUBLISH
X-ORIGINAL-URL:https://jacksonvillechildrensfoundation.org
X-WR-CALDESC:Events for 
REFRESH-INTERVAL;VALUE=DURATION:PT1H
X-Robots-Tag:noindex
X-PUBLISHED-TTL:PT1H
BEGIN:VTIMEZONE
TZID:UTC
BEGIN:STANDARD
TZOFFSETFROM:+0000
TZOFFSETTO:+0000
TZNAME:UTC
DTSTART:20230101T000000
END:STANDARD
END:VTIMEZONE
BEGIN:VEVENT
DTSTART;TZID=UTC:20241021T180000
DTEND;TZID=UTC:20241021T200000
DTSTAMP:20260421T133306
CREATED:20240820T195216Z
LAST-MODIFIED:20240820T195216Z
UID:743-1729533600-1729540800@jacksonvillechildrensfoundation.org
SUMMARY:October Annual Meeting 2024
DESCRIPTION:The October Annual Children’s Foundation Meeting will be held on October 21rd\, 2024 at the Community Park Center located at 1309 South Mail Street. \nThe meeting will take place at 6:00pm \n\nNew Board Members will be elected to vacant seats.\nUpdates from the 2023 – 2024 funded applicants.\nApplicants for the 2024-2025 funding cycle will present their requests for funding.\nClosed Board discussion to follow presenters
URL:https://jacksonvillechildrensfoundation.org/event/october-annual-meeting-2024/
END:VEVENT
END:VCALENDAR